BEGIN:VCALENDAR
VERSION:2.0
PRODID:icalendar-ruby
CALSCALE:GREGORIAN
METHOD:PUBLISH
BEGIN:VEVENT
DTSTAMP:20260423T090534Z
UID:54-649390@stlukesparkcity.com
DTSTART:20261004T163000Z
DTEND:20261005T053000Z
CLASS:PUBLIC
CREATED:20260422T192849
DESCRIPTION:WORSHIP WITH US ONLINE\n \nTO VIEW LIVE STREAMS OF OUR SERVICE
 S\, CLICK ON THE REGISTER LINK.\nTHIS WILL TAKE YOU TO OUR YOUTUBE CHANNEL
 .  THEN CLICK ON THE LIVE TAB.\nNEXT CLICK ON THE SCHEDULED LIVE STREAM T
 HAT YOU WANT TO VIEW (CHURCH ICON)\nPLEASE DO NOT ATTEMPT TO JOIN UNTIL AP
 PROXIMATELY FIVE MINUTES BEFORE THE SERVICE.\n\nTO VIEW OUR PREVIOUSLY REC
 ORDED SERVICES\, CLICK ON THE LINK BELOW.\nTHIS WILL TAKE YOU TO OUR YOUTU
 BE CHANNEL.  THEN CLICK THE VIDEOS TAB.\nNEXT CLICK ON THE VIDEO YOU WANT
  TO WATCH.
LAST-MODIFIED:20260422T192849
LOCATION:
SUMMARY:ONLINE WORSHIP SERVICES
URL;VALUE=URI:https://www.stlukesparkcity.com/events/online-worship-service
 s/2026-10-04
ATTACH;FILENAME=worship_21754c.jpg;FMTTYPE=image/jpeg:https://dq5pwpg1q8ru0
 .cloudfront.net/2024/05/28/20/17/04/50f7a02e-94e3-4048-b9cf-46153e55f80e/w
 orship_21754c.jpg
ATTACH;FILENAME=images-1.jpeg;FMTTYPE=image/jpeg:https://dq5pwpg1q8ru0.clou
 dfront.net/2025/06/04/16/30/21/dd427cdc-4fca-4b20-97b5-924c1db7fde4/images
 -1.jpeg
END:VEVENT
END:VCALENDAR
