BEGIN:VCALENDAR
VERSION:2.0
PRODID:icalendar-ruby
CALSCALE:GREGORIAN
METHOD:PUBLISH
BEGIN:VEVENT
DTSTAMP:20260420T145010Z
UID:32-643687@stlukesparkcity.com
DTSTART:20261004T163000Z
DTEND:20261004T173000Z
CLASS:PUBLIC
CREATED:20260420T072642
DESCRIPTION:Indoor Sunday service with music\, full communion with Holy Euc
 harist.  Followed by hospitality hour.
LAST-MODIFIED:20260420T072642
LOCATION:4595 Silver Springs Drive
SUMMARY:ST. LUKE'S EPISCOPAL LATE MORNING SUNDAY SERVICE
URL;VALUE=URI:https://www.stlukesparkcity.com/events/st-lukes-episcopal-lat
 e-morning-sunday-service/2026-10-04
ATTACH;FILENAME=andrew-seaman-ZwaqicZOAgc-unsplash.jpg;FMTTYPE=image/jpeg:h
 ttps://dq5pwpg1q8ru0.cloudfront.net/2021/11/19/06/33/41/5e6b3bfa-35ef-42f1
 -9156-2ac43c6b3615/andrew-seaman-ZwaqicZOAgc-unsplash.jpg
ATTACH;FILENAME=IMG_0177 (1).jpg;FMTTYPE=image/jpeg:https://dq5pwpg1q8ru0.c
 loudfront.net/2022/07/29/13/34/37/fbac753f-86db-4c1d-a77f-87afc2832182/IMG
 _0177%20(1).jpg
END:VEVENT
END:VCALENDAR
