BEGIN:VCALENDAR
VERSION:2.0
PRODID:icalendar-ruby
CALSCALE:GREGORIAN
METHOD:PUBLISH
BEGIN:VEVENT
DTSTAMP:20260423T020042Z
UID:301-635763@stlukesparkcity.com
DTSTART:20260502T184500Z
DTEND:20260502T200000Z
CLASS:PUBLIC
CREATED:20260416T092842
DESCRIPTION:Come walk our labyrinth at St. Luke’s on Saturday\, May 2! Th
 is is a part of World Labyrinth Day (always the first Saturday of May)\, 
 when participants around the world join in this spiritual and contemplativ
 e practice to promote global and inner peace at 1 p.m. local time in ever
 y time zone. New to this ancient practice? Lisa Murphy\, a trained labyri
 nth facilitator\, will provide information on the background and purpose 
 of this spiritual discipline (as well as basic “how-to” instruction) 
 beginning at 12:45 p.m. The Rev. Claudia Giacoma\, who introduced this anc
 ient spiritual practice to St. Luke’s many years ago\, donated a canvas
  labyrinth that will be laid out in the Parish Hall so that our walk will 
 be indoors (and weatherproof). Those who have signed up for Fr. Martin Smi
 th’s Quiet Day will also be participating. Any questions? Contact Mary 
 McEntire at 435-645-5993 or Michele Liencres at 650-714-3244.
LAST-MODIFIED:20260416T092842
LOCATION:St. Luke's Church
SUMMARY:WORLD LABYRINTH DAY
URL;VALUE=URI:https://www.stlukesparkcity.com/events/world-labyrinth-day--3
 01/2026-05-02
ATTACH;FILENAME=labyrinth_17531ac.jpg;FMTTYPE=image/jpeg:https://dq5pwpg1q8
 ru0.cloudfront.net/2026/04/16/15/28/42/0e0d0e94-35b4-4ac0-b5f2-9dc904633d7
 9/labyrinth_17531ac.jpg
END:VEVENT
END:VCALENDAR
